BEGIN:VCALENDAR
VERSION:2.0
PRODID:-//مركز جمال بن حويرب للدراسات - ECPv5.1.6//NONSGML v1.0//EN
CALSCALE:GREGORIAN
METHOD:PUBLISH
X-WR-CALNAME:مركز جمال بن حويرب للدراسات
X-ORIGINAL-URL:https://jbhsc.ae
X-WR-CALDESC:Events for مركز جمال بن حويرب للدراسات
BEGIN:VTIMEZONE
TZID:UTC
BEGIN:STANDARD
TZOFFSETFROM:+0000
TZOFFSETTO:+0000
TZNAME:UTC
DTSTART:20260101T000000
END:STANDARD
END:VTIMEZONE
BEGIN:VEVENT
DTSTART;TZID=UTC:20260419T122835
DTEND;TZID=UTC:20260419T122835
DTSTAMP:20260419T122835
CREATED:20200831T201307Z
LAST-MODIFIED:20201216T140221Z
UID:31267-1776601715-1776601715@jbhsc.ae
SUMMARY:NOW AND THEN ABUDHABI
DESCRIPTION: 1\,417 عدد المشاهدات
URL:https://jbhsc.ae/book/now-and-then-abudhabi-2/
ATTACH;FMTTYPE=image/jpeg:https://jbhsc.ae/wp-content/uploads/2020/08/news-ed582716154402106710231668.jpg
END:VEVENT
END:VCALENDAR